BEGIN:VCALENDAR
VERSION:2.0
PRODID:-//ACTIVITATEA GOSCOM - ECPv6.6.0//NONSGML v1.0//EN
CALSCALE:GREGORIAN
METHOD:PUBLISH
X-ORIGINAL-URL:https://activitateagoscom.ro
X-WR-CALDESC:Events for ACTIVITATEA GOSCOM
REFRESH-INTERVAL;VALUE=DURATION:PT1H
X-Robots-Tag:noindex
X-PUBLISHED-TTL:PT1H
BEGIN:VTIMEZONE
TZID:Europe/Helsinki
BEGIN:DAYLIGHT
TZOFFSETFROM:+0200
TZOFFSETTO:+0300
TZNAME:EEST
DTSTART:20240331T010000
END:DAYLIGHT
BEGIN:STANDARD
TZOFFSETFROM:+0300
TZOFFSETTO:+0200
TZNAME:EET
DTSTART:20241027T010000
END:STANDARD
END:VTIMEZONE
BEGIN:VEVENT
DTSTART;TZID=Europe/Helsinki:20240927T080000
DTEND;TZID=Europe/Helsinki:20240927T170000
DTSTAMP:20260421T224237
CREATED:20240926T152641Z
LAST-MODIFIED:20240926T152641Z
UID:14433-1727424000-1727456400@activitateagoscom.ro
SUMMARY:Sistarea furnizării apei potabile în Orăștie\, Rapoltu Mare\, Turdaș\, Mărtinești
DESCRIPTION:Anunț important – Oprire programată a furnizării apei \nVă informăm că mâine\, 27 septembrie 2024\, se va efectua o oprire programată a furnizării apei în municipiul Orăștie și în localitățile învecinate\, după cum urmează: \nStrăzi afectate în Orăștie: \nZărnescu\, \nEnescu\, \nDealul Mic\, \nArmatei. \n\nLocalități afectate: \nComuna Rapoltu Mare\, \nComuna Turdaș\, \nComuna Mărtinești. \n\nIntervalul orar al întreruperii: 08:00 – 17:00. \nLa reluarea alimentării cu apă în regim normal\, este posibil ca apa de la robinete să fie tulbure. Vă recomandăm să evitați utilizarea apei în scopuri menajere până la limpezirea completă. \nPentru informații suplimentare\, ne puteți contacta la: \nCentrala telefonică AGO: 0254 242 242 \nDispecerat non-stop: 0727 200 724 \n\nPentru detalii suplimentare\, vizitați: www.activitateagoscom.ro. \nVă mulțumim pentru înțelegere!
URL:https://activitateagoscom.ro/event/sistarea-furnizarii-apei-potabile-in-orastie-rapoltu-mare-turdas-martinesti
LOCATION:Orăștie
END:VEVENT
END:VCALENDAR