BEGIN:VCALENDAR
VERSION:2.0
PRODID:-//ACTIVITATEA GOSCOM - ECPv6.6.0//NONSGML v1.0//EN
CALSCALE:GREGORIAN
METHOD:PUBLISH
X-WR-CALNAME:ACTIVITATEA GOSCOM
X-ORIGINAL-URL:https://activitateagoscom.ro
X-WR-CALDESC:Events for ACTIVITATEA GOSCOM
REFRESH-INTERVAL;VALUE=DURATION:PT1H
X-Robots-Tag:noindex
X-PUBLISHED-TTL:PT1H
BEGIN:VTIMEZONE
TZID:Europe/Helsinki
BEGIN:DAYLIGHT
TZOFFSETFROM:+0200
TZOFFSETTO:+0300
TZNAME:EEST
DTSTART:20240331T010000
END:DAYLIGHT
BEGIN:STANDARD
TZOFFSETFROM:+0300
TZOFFSETTO:+0200
TZNAME:EET
DTSTART:20241027T010000
END:STANDARD
END:VTIMEZONE
BEGIN:VEVENT
DTSTART;TZID=Europe/Helsinki:20240729T163000
DTEND;TZID=Europe/Helsinki:20240729T193000
DTSTAMP:20260422T000656
CREATED:20240729T192629Z
LAST-MODIFIED:20240729T192649Z
UID:14262-1722270600-1722281400@activitateagoscom.ro
SUMMARY:Sistarea furnizare apă potabilă - Beriu\, Orăștioara de Jos și Sereca
DESCRIPTION:Astăzi 29 iulie 2024 în urma unei avarii produse la rețeaua de alimentare cu apă se sistează furnizarea apei în localitățile Beriu\, Orăștioara de Jos și Sereca între orele 16:30 și 19:30. \n\n\nLa reluarea alimentării cu apă în regim normal este posibil ca la robinete să curgă apă tulbure. Recomandăm clienților să nu folosească apa în scopuri menajere\, până la limpezirea completă. \n\nCentrala Telefonică AGO 0254 242 242\nDispecerat 24/7 AGO 0727 200 724\nwww.activitateagoscom.ro
URL:https://activitateagoscom.ro/event/sistarea-furnizare-apa-potabila-beriu-orastioara-de-jos-si-sereca
LOCATION:Turdaș\, Mărtinești\, Pricaz\, Rapoltu Mare\, Bobâlna\, Strada Pricazului și Bulevardul Armatei – Municipiul Orăștie\, Turdaș\, Mărtinești\, Pricaz\, Rapoltu Mare\, Bobâlna\, Strada Pricazului și Bulevardul Armatei - Municipiul Orăștie\, Romania
END:VEVENT
BEGIN:VEVENT
DTSTART;TZID=Europe/Helsinki:20240729T183000
DTEND;TZID=Europe/Helsinki:20240729T213000
DTSTAMP:20260422T000656
CREATED:20240729T192523Z
LAST-MODIFIED:20240729T192736Z
UID:14259-1722277800-1722288600@activitateagoscom.ro
SUMMARY:Sistarea furnizare apă potabilă - Turdaș\, Spini\, Râpaș
DESCRIPTION:Astăzi 29 iulie 2024 în urma unei avarii produse la rețeaua de alimentare cu apă se sistează furnizarea apei în localitățile Turdaș\, Râpaș și Spini între orele 18:30 și 21:30. \n\n\nLa reluarea alimentării cu apă în regim normal este posibil ca la robinete să curgă apă tulbure. Recomandăm clienților să nu folosească apa în scopuri menajere\, până la limpezirea completă. \n\nCentrala Telefonică AGO 0254 242 242\nDispecerat 24/7 AGO 0727 200 724
URL:https://activitateagoscom.ro/event/sistarea-furnizare-apa-potabila-turdas-spini-rapas
LOCATION:Turdaș\, Spini\, Râpaș
END:VEVENT
END:VCALENDAR