BEGIN:VCALENDAR
VERSION:2.0
PRODID:-//ACTIVITATEA GOSCOM - ECPv6.6.0//NONSGML v1.0//EN
CALSCALE:GREGORIAN
METHOD:PUBLISH
X-ORIGINAL-URL:https://activitateagoscom.ro
X-WR-CALDESC:Events for ACTIVITATEA GOSCOM
REFRESH-INTERVAL;VALUE=DURATION:PT1H
X-Robots-Tag:noindex
X-PUBLISHED-TTL:PT1H
BEGIN:VTIMEZONE
TZID:Europe/Helsinki
BEGIN:DAYLIGHT
TZOFFSETFROM:+0200
TZOFFSETTO:+0300
TZNAME:EEST
DTSTART:20240331T010000
END:DAYLIGHT
BEGIN:STANDARD
TZOFFSETFROM:+0300
TZOFFSETTO:+0200
TZNAME:EET
DTSTART:20241027T010000
END:STANDARD
END:VTIMEZONE
BEGIN:VEVENT
DTSTART;TZID=Europe/Helsinki:20240723T080000
DTEND;TZID=Europe/Helsinki:20240723T170000
DTSTAMP:20260422T013816
CREATED:20240716T082524Z
LAST-MODIFIED:20240726T055609Z
UID:14222-1721721600-1721754000@activitateagoscom.ro
SUMMARY:Sistarea furnizare apă potabilă
DESCRIPTION:Astăzi\, 23 iulie 2024\, în urma unei avarii produse la rețeaua de alimentare cu apă\, se sistează furnizarea apei în localitățile Turdaș\, Mărtinești\, Pricaz\, Rapoltu Mare\, Bobâlna\, și suplimentar\, pe Strada Pricazului și Bulevardul Armatei din municipiul Orăștie până la orele 17:00.\n\n\n\nLa reluarea alimentării cu apă în regim normal\, este posibil ca la robinete să curgă apă tulbure. Recomandăm clienților să nu folosească apa în scopuri menajere până la limpezirea completă.\n\n\n\nPentru informații suplimentare\, vă rugăm să contactați:\n\n– Centrala Telefonică AGO: 0254 242 242\n– Dispecerat 24/7 AGO: 0727 200 724\n– Website: www.activitateagoscom.ro\n\n\n\nVă mulțumim pentru înțelegere și ne cerem scuze pentru disconfortul creat.
URL:https://activitateagoscom.ro/event/interventie-programata
LOCATION:Turdaș\, Mărtinești\, Pricaz\, Rapoltu Mare\, Bobâlna\, Strada Pricazului și Bulevardul Armatei – Municipiul Orăștie\, Turdaș\, Mărtinești\, Pricaz\, Rapoltu Mare\, Bobâlna\, Strada Pricazului și Bulevardul Armatei - Municipiul Orăștie\, Romania
END:VEVENT
END:VCALENDAR